BEGIN:VCALENDAR
VERSION:2.0
PRODID:-//Tukios.com/
BEGIN:VEVENT
UID:5825483d-1639-46e3-8f03-4e5db0468d00@www.akinscobb.com
DTSTAMP:20260423T221948Z
DTSTART:20260424T210000Z
DTEND:20260425T000000Z
SUMMARY:Visitation
DESCRIPTION:
URL:https://www.akinscobb.com/obituaries/wanda-adams
LOCATION:Akins-Cobb of Blue Ridge 7871 Blue Ridge Drive  Blue Ridge GA 
	30513
GEO:34.893551;-84.3520278
END:VEVENT
END:VCALENDAR