BEGIN:VCALENDAR
VERSION:2.0
PRODID:-//Tukios.com/
BEGIN:VEVENT
UID:864f0097-d385-49d6-9602-7051fa985cbb@www.akinscobb.com
DTSTAMP:20260423T222733Z
DTSTART:20260425T180000Z
DTEND:20260425T190000Z
SUMMARY:Funeral Service
DESCRIPTION:
URL:https://www.akinscobb.com/obituaries/wanda-adams
LOCATION:Akins-Cobb Blue Ridge Chapel 7871 Blue Ridge Drive  Blue Ridge 
	GA 30513
GEO:34.893551;-84.3520278
END:VEVENT
END:VCALENDAR