BEGIN:VCALENDAR
VERSION:2.0
PRODID:-//Tukios.com/
BEGIN:VEVENT
UID:0cf5ea4c-2981-4f67-a82e-45c3dc52e68c@www.akinscobb.com
DTSTAMP:20260426T000421Z
DTSTART:20260501T170000Z
DTEND:20260501T180000Z
SUMMARY:Graveside Service
DESCRIPTION:
URL:https://www.akinscobb.com/obituaries/paul-hall
LOCATION:Georgia National Cemetery  1080 Scott Hudgens Dr.  Canton GA 
	30114
GEO:34.2345275;-84.5755116
END:VEVENT
END:VCALENDAR