BEGIN:VCALENDAR
VERSION:2.0
PRODID:-//Tukios.com/
BEGIN:VEVENT
UID:412ebd1f-85ce-4ed4-acf5-608c8e3e8fd1@www.akinscobb.com
DTSTAMP:20260422T002821Z
DTSTART:20260422T190000Z
DTEND:20260423T010000Z
SUMMARY:Visitation
DESCRIPTION:
URL:https://www.akinscobb.com/obituaries/justin-walker
LOCATION:Akins-Cobb of Blue Ridge 7871 Blue Ridge Drive  Blue Ridge GA 
	30513
GEO:34.893551;-84.3520278
END:VEVENT
END:VCALENDAR