BEGIN:VCALENDAR
VERSION:2.0
PRODID:-//Tukios.com/
BEGIN:VEVENT
UID:c7c0bb20-7347-4c45-a8ba-3a05d56ab29e@www.akinscobb.com
DTSTAMP:20260422T003434Z
DTSTART:20260423T170000Z
DTEND:20260423T180000Z
SUMMARY:Funeral Service
DESCRIPTION:
URL:https://www.akinscobb.com/obituaries/justin-walker
LOCATION:Akins-Cobb Blue Ridge Chapel 7871 Blue Ridge Drive  Blue Ridge 
	GA 30513
GEO:34.893551;-84.3520278
END:VEVENT
END:VCALENDAR