BEGIN:VCALENDAR
VERSION:2.0
PRODID:-//Tukios.com/
BEGIN:VEVENT
UID:376ee92d-315a-4d1c-8a84-22504171672b@www.akinscobb.com
DTSTAMP:20260422T003728Z
DTSTART:20260423T210000Z
DTEND:20260424T000000Z
SUMMARY:Visitation
DESCRIPTION:
URL:https://www.akinscobb.com/obituaries/james-harlo-harris
LOCATION:Akins-Cobb of Copperhill 823 Ocoee Street  Copperhill TN 37317
GEO:35.0097691;-84.3847178
END:VEVENT
END:VCALENDAR