BEGIN:VCALENDAR
VERSION:2.0
PRODID:-//Tukios.com/
BEGIN:VEVENT
UID:5102e3a6-0c06-4df8-a8ee-d67493063446@www.akinscobb.com
DTSTAMP:20260422T003728Z
DTSTART:20260424T180000Z
DTEND:20260424T190000Z
SUMMARY:Funeral Service
DESCRIPTION:
URL:https://www.akinscobb.com/obituaries/james-harlo-harris
LOCATION:Akins-Cobb of Copperhill 823 Ocoee Street  Copperhill TN 37317
GEO:35.0097691;-84.3847178
END:VEVENT
END:VCALENDAR