BEGIN:VCALENDAR
VERSION:2.0
PRODID:-//Tukios.com/
BEGIN:VEVENT
UID:e60867f3-b425-4e90-a9cb-467edc701bc6@www.akinscobb.com
DTSTAMP:20260424T231312Z
DTSTART:20260427T150000Z
DTEND:20260427T180000Z
SUMMARY:Visitation
DESCRIPTION:
URL:https://www.akinscobb.com/obituaries/evelyn-hunter
LOCATION:Akins-Cobb of Blue Ridge 7871 Blue Ridge Drive  Blue Ridge GA 
	30513
GEO:34.893551;-84.3520278
END:VEVENT
END:VCALENDAR