BEGIN:VCALENDAR
VERSION:2.0
PRODID:-//Tukios.com/
BEGIN:VEVENT
UID:5b18d781-d3e3-437d-b72a-5db269e8f97b@www.akinscobb.com
DTSTAMP:20260424T231645Z
DTSTART:20260427T180000Z
DTEND:20260427T190000Z
SUMMARY:Funeral Service
DESCRIPTION:
URL:https://www.akinscobb.com/obituaries/evelyn-hunter
LOCATION:Akins-Cobb Blue Ridge Chapel 7871 Blue Ridge Drive  Blue Ridge 
	GA 30513
GEO:34.893551;-84.3520278
END:VEVENT
END:VCALENDAR